BEGIN:VCALENDAR
VERSION:2.0
PRODID:-//Sheridan Voysey - ECPv6.15.20//NONSGML v1.0//EN
CALSCALE:GREGORIAN
METHOD:PUBLISH
X-ORIGINAL-URL:https://www.sheridanvoysey.com
X-WR-CALDESC:Events for Sheridan Voysey
REFRESH-INTERVAL;VALUE=DURATION:PT1H
X-Robots-Tag:noindex
X-PUBLISHED-TTL:PT1H
BEGIN:VTIMEZONE
TZID:Europe/London
BEGIN:DAYLIGHT
TZOFFSETFROM:+0000
TZOFFSETTO:+0100
TZNAME:BST
DTSTART:20250330T010000
END:DAYLIGHT
BEGIN:STANDARD
TZOFFSETFROM:+0100
TZOFFSETTO:+0000
TZNAME:GMT
DTSTART:20251026T010000
END:STANDARD
BEGIN:DAYLIGHT
TZOFFSETFROM:+0000
TZOFFSETTO:+0100
TZNAME:BST
DTSTART:20260329T010000
END:DAYLIGHT
BEGIN:STANDARD
TZOFFSETFROM:+0100
TZOFFSETTO:+0000
TZNAME:GMT
DTSTART:20261025T010000
END:STANDARD
BEGIN:DAYLIGHT
TZOFFSETFROM:+0000
TZOFFSETTO:+0100
TZNAME:BST
DTSTART:20270328T010000
END:DAYLIGHT
BEGIN:STANDARD
TZOFFSETFROM:+0100
TZOFFSETTO:+0000
TZNAME:GMT
DTSTART:20271031T010000
END:STANDARD
END:VTIMEZONE
BEGIN:VEVENT
DTSTART;VALUE=DATE:20260425
DTEND;VALUE=DATE:20260426
DTSTAMP:20260421T111435
CREATED:20251124T190935Z
LAST-MODIFIED:20251124T190935Z
UID:14891-1777075200-1777161599@www.sheridanvoysey.com
SUMMARY:Everything Conference
DESCRIPTION:Drawing 750 people in the heart of London\, this incredible event exists to share stories of cultural renewal at work in people’s lives and in society. I look forward to contributing on the topic of adult friendship. Details to come.
URL:https://www.sheridanvoysey.com/event/everything-conference/
ATTACH;FMTTYPE=image/jpeg:https://www.sheridanvoysey.com/wp-content/uploads/2025/11/Everything-Conference-logo.jpg
END:VEVENT
BEGIN:VEVENT
DTSTART;TZID=Europe/London:20260426T103000
DTEND;TZID=Europe/London:20260426T120000
DTSTAMP:20260421T111435
CREATED:20260323T185914Z
LAST-MODIFIED:20260323T190716Z
UID:14967-1777199400-1777204800@www.sheridanvoysey.com
SUMMARY:Kidlington Baptist Friendship Lab Launch
DESCRIPTION:As Oxfordshire’s Kidlington Baptist Church prepares to launch Friendship Lab church-wide across its small groups and community projects\, I’ll be speaking at their 10.30am service on the Power of Friendship. All are welcome.
URL:https://www.sheridanvoysey.com/event/kidlington-baptist-friendship-lab-launch/
END:VEVENT
END:VCALENDAR